BEGIN:VCALENDAR
VERSION:2.0
PRODID:-//曹洞宗 善寿寺 - ECPv6.8.3//NONSGML v1.0//EN
CALSCALE:GREGORIAN
METHOD:PUBLISH
X-WR-CALNAME:曹洞宗 善寿寺
X-ORIGINAL-URL:https://zenjyuji.com
X-WR-CALDESC:曹洞宗 善寿寺 のイベント
REFRESH-INTERVAL;VALUE=DURATION:PT1H
X-Robots-Tag:noindex
X-PUBLISHED-TTL:PT1H
BEGIN:VTIMEZONE
TZID:Asia/Tokyo
BEGIN:STANDARD
TZOFFSETFROM:+0900
TZOFFSETTO:+0900
TZNAME:JST
DTSTART:20250101T000000
END:STANDARD
END:VTIMEZONE
BEGIN:VEVENT
DTSTART;VALUE=DATE:20250430
DTEND;VALUE=DATE:20250501
DTSTAMP:20260426T001922
CREATED:20241224T053827Z
LAST-MODIFIED:20241224T053827Z
UID:150-1745971200-1746057599@zenjyuji.com
SUMMARY:弁財天様法要
DESCRIPTION:8時~
URL:https://zenjyuji.com/event/%e5%bc%81%e8%b2%a1%e5%a4%a9%e6%a7%98%e6%b3%95%e8%a6%81-2/
CATEGORIES:弁財天様法要
END:VEVENT
BEGIN:VEVENT
DTSTART;VALUE=DATE:20250629
DTEND;VALUE=DATE:20250630
DTSTAMP:20260426T001922
CREATED:20241224T060455Z
LAST-MODIFIED:20241224T060455Z
UID:170-1751155200-1751241599@zenjyuji.com
SUMMARY:弁財天様法要
DESCRIPTION:8時~
URL:https://zenjyuji.com/event/%e5%bc%81%e8%b2%a1%e5%a4%a9%e6%a7%98%e6%b3%95%e8%a6%81-3/
CATEGORIES:弁財天様法要
END:VEVENT
BEGIN:VEVENT
DTSTART;VALUE=DATE:20250828
DTEND;VALUE=DATE:20250829
DTSTAMP:20260426T001922
CREATED:20241225T081516Z
LAST-MODIFIED:20241225T081516Z
UID:199-1756339200-1756425599@zenjyuji.com
SUMMARY:弁財天様法要
DESCRIPTION:8時~
URL:https://zenjyuji.com/event/%e5%bc%81%e8%b2%a1%e5%a4%a9%e6%a7%98%e6%b3%95%e8%a6%81-4/
CATEGORIES:弁財天様法要
END:VEVENT
BEGIN:VEVENT
DTSTART;VALUE=DATE:20251027
DTEND;VALUE=DATE:20251028
DTSTAMP:20260426T001922
CREATED:20241226T073815Z
LAST-MODIFIED:20241226T073841Z
UID:218-1761523200-1761609599@zenjyuji.com
SUMMARY:弁財天様法要
DESCRIPTION:8時~
URL:https://zenjyuji.com/event/%e5%bc%81%e8%b2%a1%e5%a4%a9%e6%a7%98%e6%b3%95%e8%a6%81-5/
CATEGORIES:弁財天様法要
END:VEVENT
BEGIN:VEVENT
DTSTART;VALUE=DATE:20251226
DTEND;VALUE=DATE:20251227
DTSTAMP:20260426T001922
CREATED:20241226T075039Z
LAST-MODIFIED:20241226T075039Z
UID:243-1766707200-1766793599@zenjyuji.com
SUMMARY:納め弁財天様法要
DESCRIPTION:8時~
URL:https://zenjyuji.com/event/%e7%b4%8d%e3%82%81%e5%bc%81%e8%b2%a1%e5%a4%a9%e6%a7%98%e6%b3%95%e8%a6%81/
CATEGORIES:弁財天様法要
END:VEVENT
END:VCALENDAR