BEGIN:VCALENDAR
VERSION:2.0
PRODID:-//曹洞宗 善寿寺 - ECPv6.8.3//NONSGML v1.0//EN
CALSCALE:GREGORIAN
METHOD:PUBLISH
X-WR-CALNAME:曹洞宗 善寿寺
X-ORIGINAL-URL:https://zenjyuji.com
X-WR-CALDESC:曹洞宗 善寿寺 のイベント
REFRESH-INTERVAL;VALUE=DURATION:PT1H
X-Robots-Tag:noindex
X-PUBLISHED-TTL:PT1H
BEGIN:VTIMEZONE
TZID:Asia/Tokyo
BEGIN:STANDARD
TZOFFSETFROM:+0900
TZOFFSETTO:+0900
TZNAME:JST
DTSTART:20250101T000000
END:STANDARD
END:VTIMEZONE
BEGIN:VEVENT
DTSTART;VALUE=DATE:20251208
DTEND;VALUE=DATE:20251209
DTSTAMP:20260424T074021
CREATED:20241226T074834Z
LAST-MODIFIED:20241226T074854Z
UID:237-1765152000-1765238399@zenjyuji.com
SUMMARY:納め龍神様大祭
DESCRIPTION:10時半~
URL:https://zenjyuji.com/event/%e7%b4%8d%e3%82%81%e9%be%8d%e7%a5%9e%e6%a7%98%e5%a4%a7%e7%a5%ad/
CATEGORIES:龍神様大護摩
END:VEVENT
BEGIN:VEVENT
DTSTART;VALUE=DATE:20251108
DTEND;VALUE=DATE:20251109
DTSTAMP:20260424T074021
CREATED:20241226T074404Z
LAST-MODIFIED:20241226T074404Z
UID:225-1762560000-1762646399@zenjyuji.com
SUMMARY:龍神様大祭
DESCRIPTION:10時半~
URL:https://zenjyuji.com/event/%e9%be%8d%e7%a5%9e%e6%a7%98%e5%a4%a7%e7%a5%ad-5/
CATEGORIES:龍神様大護摩
END:VEVENT
BEGIN:VEVENT
DTSTART;VALUE=DATE:20251008
DTEND;VALUE=DATE:20251009
DTSTAMP:20260424T074021
CREATED:20241226T073058Z
LAST-MODIFIED:20241226T073058Z
UID:212-1759881600-1759967999@zenjyuji.com
SUMMARY:龍神様大祭
DESCRIPTION:10時半~
URL:https://zenjyuji.com/event/%e9%be%8d%e7%a5%9e%e6%a7%98%e5%a4%a7%e7%a5%ad-4/
CATEGORIES:龍神様大護摩
END:VEVENT
BEGIN:VEVENT
DTSTART;VALUE=DATE:20250908
DTEND;VALUE=DATE:20250909
DTSTAMP:20260424T074021
CREATED:20241225T081711Z
LAST-MODIFIED:20241226T075749Z
UID:203-1757289600-1757375999@zenjyuji.com
SUMMARY:龍神様大祭
DESCRIPTION:10時半~
URL:https://zenjyuji.com/event/%e9%be%8d%e7%a5%9e%e6%a7%98%e5%a4%a7%e7%a5%ad-10/
CATEGORIES:龍神様大護摩
END:VEVENT
BEGIN:VEVENT
DTSTART;VALUE=DATE:20250808
DTEND;VALUE=DATE:20250809
DTSTAMP:20260424T074021
CREATED:20241225T081059Z
LAST-MODIFIED:20241226T075722Z
UID:189-1754611200-1754697599@zenjyuji.com
SUMMARY:龍神様大祭
DESCRIPTION:13時半~
URL:https://zenjyuji.com/event/%e9%be%8d%e7%a5%9e%e6%a7%98%e5%a4%a7%e7%a5%ad-7/
CATEGORIES:龍神様大護摩
END:VEVENT
BEGIN:VEVENT
DTSTART;VALUE=DATE:20250708
DTEND;VALUE=DATE:20250709
DTSTAMP:20260424T074021
CREATED:20241224T060942Z
LAST-MODIFIED:20241226T075726Z
UID:172-1751932800-1752019199@zenjyuji.com
SUMMARY:龍神様大祭
DESCRIPTION:10時半~
URL:https://zenjyuji.com/event/%e9%be%8d%e7%a5%9e%e6%a7%98%e5%a4%a7%e7%a5%ad-8/
CATEGORIES:龍神様大護摩
END:VEVENT
BEGIN:VEVENT
DTSTART;VALUE=DATE:20250608
DTEND;VALUE=DATE:20250609
DTSTAMP:20260424T074021
CREATED:20241224T054525Z
LAST-MODIFIED:20241226T075730Z
UID:160-1749340800-1749427199@zenjyuji.com
SUMMARY:龍神様大祭
DESCRIPTION:10時半~
URL:https://zenjyuji.com/event/%e9%be%8d%e7%a5%9e%e6%a7%98%e5%a4%a7%e7%a5%ad-3/
CATEGORIES:龍神様大護摩
END:VEVENT
BEGIN:VEVENT
DTSTART;VALUE=DATE:20250408
DTEND;VALUE=DATE:20250409
DTSTAMP:20260424T074021
CREATED:20241224T052231Z
LAST-MODIFIED:20241224T052231Z
UID:142-1744070400-1744156799@zenjyuji.com
SUMMARY:龍神様大祭
DESCRIPTION:10時半~
URL:https://zenjyuji.com/event/%e9%be%8d%e7%a5%9e%e6%a7%98%e5%a4%a7%e7%a5%ad-2/
CATEGORIES:龍神様大護摩
END:VEVENT
BEGIN:VEVENT
DTSTART;VALUE=DATE:20250308
DTEND;VALUE=DATE:20250309
DTSTAMP:20260424T074021
CREATED:20241224T051618Z
LAST-MODIFIED:20241226T075737Z
UID:135-1741392000-1741478399@zenjyuji.com
SUMMARY:龍神様大祭
DESCRIPTION:10時半~
URL:https://zenjyuji.com/event/%e9%be%8d%e7%a5%9e%e6%a7%98%e5%a4%a7%e7%a5%ad-9/
CATEGORIES:龍神様大護摩
END:VEVENT
BEGIN:VEVENT
DTSTART;VALUE=DATE:20250208
DTEND;VALUE=DATE:20250209
DTSTAMP:20260424T074021
CREATED:20241223T034555Z
LAST-MODIFIED:20241223T034555Z
UID:117-1738972800-1739059199@zenjyuji.com
SUMMARY:龍神様大祭
DESCRIPTION:10時半~
URL:https://zenjyuji.com/event/%e9%be%8d%e7%a5%9e%e6%a7%98%e5%a4%a7%e7%a5%ad/
CATEGORIES:龍神様大護摩
END:VEVENT
BEGIN:VEVENT
DTSTART;VALUE=DATE:20250108
DTEND;VALUE=DATE:20250109
DTSTAMP:20260424T074021
CREATED:20241223T033642Z
LAST-MODIFIED:20241226T075647Z
UID:110-1736294400-1736380799@zenjyuji.com
SUMMARY:龍神様大祭
DESCRIPTION:10時半~
URL:https://zenjyuji.com/event/%e9%be%8d%e7%a5%9e%e6%a7%98%e5%a4%a7%e7%a5%ad-6/
CATEGORIES:龍神様大護摩
END:VEVENT
END:VCALENDAR